Workbook
Name Agency_type: Table15[Type d''Agence]
Name Commodities_list: Table5_Commodities_list[Description de produit HS av. volume]
Name Commodity_names: Table5_Commodities_list[Description de produit HS]
Name Companies_list: Companies[Nom complet de l’entreprise]
Name Currency_code_list: Table1_Country_codes_and_currencies[Code de devise (ISO 4217)]
Name GFS_list: Table6_GFS_codes_classification[Combiné]
Name Government_entities_list: Government_agencies[Nom complet de l’entité]
Name Project_phases_list: Table12[Étapes du projet]
Name Projectname: Companies15[Nom complet du projet]
Name Reporting_options_list: Table3_Reporting_options[Liste]
Name Revenue_stream_list: Government_revenues_table[Nom du flux de revenus]
Name Sector_list: Table7_sectors[Secteur (s)]
Name Simple_options_list: Table2_Simple_options[Liste]
Name Total_reconciled: Table10[Valeur de revenus]
Name Total_revenues: Government_revenues_table[Valeur des revenus]

Sheet Introduction
E4: Rempli le : | G4: 46037
C10: Modèle de données résumées pour les divulgations ITIE
C11: Version 2.0 appliquée le 1er Juillet 2019
C13: En remplissant ce modèle de données résumées avec des données de votre Rapport ITIE, vous rendrez ces dernières accessibles sous un format lisible par machine (Exigence 7.2.d).
C14: « Rendre le Rapport ITIE disponible en format données ouvertes (xlsx ou csv) en ligne et faire connaître sa disponibilité » - Exigence ITIE 7.1.c
C16: Comment fonctionne la publication de données ITIE :
C17: 1. N’utiliser qu’un classeur Excel par exercice fiscal couvert. Si la déclaration porte à la fois sur les hydrocarbures et l’exploitation minière, ces deux secteurs peuvent être inclus dans un seul classeur.
C18: 2. Remplir le classeur entier - parties 1 à 5
C19: 3. Prière de soumettre cette fiche de données en même temps que le Rapport ITIE. L’envoyer au Secrétariat international à : data@eiti.org.
C20: 4. Les données serviront à alimenter le référentiel mondial de données ITIE, disponible sur le site Internet international de l’ITIE à https://eiti.org/fr/donnees. Le fichier vous sera renvoyé, afin de pouvoir être publié sur les canaux de votre choix.
C22: Le présent formulaire modèle devra être rempli intégralement et soumis au Secrétariat international de l’ITIE pour chaque exercice fiscal couvert par le rapportage ITIE.
C25: Ce classeur comporte cinq parties. Insérer vos données en commençant par la partie 1 et continuer jusqu’à la partie 5
C27: Partie 1 (Présentation) : Insérer les caractéristiques relatives au pays et aux données.
... C31: Partie 5 (Données d’entreprise) : Inscrire des données d’entreprise - et celle de niveau projet - par flux de revenus.
C33: Le Secrétariat international peut prodiguer conseils et soutien sur demande. Veuillez le contacter à | E33: data@eiti.org
C35: Les cellules en orange doivent être complétées avant la soumission | E35: Les cellules en bleu ne servent qu’à indiquer les sources et/ou à inscrire des commentaires | G35: Les cellules en blanc n’exigent aucune action
C37: Vous recevrez des retours immédiats sur un certain nombre des données que vous aurez inscrites, et certaines cellules se rempliront automatiquement.
C40: Terminologie : Divulgation | E40: Terminologie : Options simples
C41: Oui, divulgation systématique : Si les données sont divulguées régulièrement et systématiquement par des entités de l’État et ou des entreprises, et si ces données sont fiables, sélectionner Oui, divulgation systématique | E41: Oui : Tous les aspects de la question ont reçu une réponse/ont été couverts.
C42: Oui, à travers le rapportage ITIE : Si le Rapport ITIE ou son site couvre certaines lacunes de divulgation relatives aux données du gouvernement ou des entreprises, sélectionner « Oui, dans le Rapport ITIE ». | E42: Partiellement : Des aspects de la question ont reçu une réponse/ont été couverts.
C43: Non disponible : Les données sont applicables au pays, mais il n’y a pas de données ou d’informations disponibles. | E43: Non : Aucune information n’est couverte.
C44: Sans objet : Si une exigence n’est pas pertinente, sélectionner « Sans objet ». Faire référence à toute information à ce sujet, telle que contenue dans le Rapport ITIE ou dans le procès-verbal d’une réunion du Groupe multipartite. | E44: Sans objet : La question n’est pas pertinente pour la rubrique en question. Si une explication est requise, faire référence à toute information démontrant la non-applicabilité.
C46: Pour plus d’information sur l’ITIE, visitez notre site Internet https://eiti.org/fr
C47: Vous voulez en savoir plus sur votre pays ? Vérifiez si votre pays met en œuvre la Norme ITIE en visitant https://eiti.org/fr/pays
C48: Pour la version la plus récente des modèles de données résumées, consultez https://eiti.org/fr/document/modele-donnees-resumees-itie
C49: Faites-nous connaître vos réactions ou signalez tout conflit au niveau des données ! Écrivez-nous à data@eiti.org
C51: Site Internet www.eiti.org Courriel secretariat@eiti.org Téléphone +47 22 20 08 00 Télécopieur +47 22 83 08 02
C52: Adresse EITI International Secretariat, Rådhusgata 26, 0151 Oslo, Norvège
B53: Pays ou région
B55: Exercice fiscal couvert par ce fichier de données
B56: Exercice fiscal couvert par ce fichier de données
B58: Source de données
B59: Source de données
B60: Source de données
B61: Source de données
B62: Source de données
B63: Source de données
B64: Source de données
B65: Source de données
B66: Source de données
...

Sheet Partie 1 - Présentation
G3: Modèle de données résumées
G4: =Introduction!G4 -> 46037
C8: Partie 1 - (Présentation) Elle couvre les caractéristiques du pays et des données
C9: Comment remplir cette feuille :
C10: 1. Commençant par en haut, sélectionner votre réponse dans la colonne grise. Des indications s’affichent dans les cadres jaunes dès que la cellule a été sélectionnée.
C11: 2. Lorsqu’il aura été répondu à certaines questions, de nouvelles indications et questions peuvent s’afficher. Merci de répondre à chacune d’elles jusqu’à ce que la section ait été remplie.
C12: 3. Inclure au besoin toute information supplémentaire ou tout commentaire dans la colonne Source/Commentaires.
C13: Si vous avez des questions, veuillez contacter data@eiti.org
C15: Les cellules en orange doivent être complétées avant la soumission | E15: Les cellules en bleu pâle ne servent qu’à indiquer les sources et/ou à inscrire des commentaires | G15: Les cellules en blanc n’exigent aucune action
C17: Partie 1 - Présentation
C18: Description | E18: Inscrire les données dans cette colonne | G18: Source/Commentaires
C19: Pays ou région
B20: Pays ou région | C20: Nom du pays ou de la région | E20: République démocratique du Congo
B21: Pays ou région | C21: Code ISO de la devise | E21: =IFERROR(VLOOKUP($E$20,Table1_Country_codes_and_currencies[],3,FALSE),"") -> COD | G21: La devise utilisée dans le rapport est l'USD.
B22: Pays ou région | C22: Nom de la monnaie nationale | E22: =IFERROR(VLOOKUP($E$20,Table1_Country_codes_and_currencies[],7,FALSE),"") -> Franc congolais
B23: Pays ou région | C23: Monnaie nationale selon ISO-4217 | E23: =IFERROR(VLOOKUP($E$20,Table1_Country_codes_and_currencies[],5,FALSE),"") -> CDF
C24: Exercice fiscal couvert par ce fichier de données
B25: Exercice fiscal couvert par ce fichier de données | C25: Date de début | E25: 44927
B26: Exercice fiscal couvert par ce fichier de données | C26: Date de fin | E26: 45291
C27: Source de données
B28: Source de données | C28: Un Rapport ITIE a-t-il été préparé par un Administrateur indépendant ? | E28: Oui
B29: Source de données | C29: Quel est le nom de l’entreprise ? | E29: Enerteam
B30: Source de données | C30: Date à laquelle le Rapport ITIE a été rendu public | E30: 46022
B31: Source de données | C31: URL, Rapport ITIE | E31: https://drive.google.com/drive/folders/1GO0jz65wxZIVzV4vC_ioYsmcyqE1LVSz
B32: Source de données | C32: Les données ITIE sont-elles systématiquement divulguées par le gouvernement à une adresse unique? | E32: Non | G32: Les données financières ne sont pas divulguées systèmatiquement Certaines données contextuelles sont divulguées systèmatiquement
B33: Source de données | C33: Date de publication des données ITIE | E33: N/a
B34: Source de données | C34: Lien vers le site Internet (URL) de données ITIE
B35: Source de données | C35: Existe-t-il d’autres fichiers de caractère pertinent ? | E35: Oui | G35: Les nouvels entrepôts des données (Data warehouse) pôur les deux secteurs
B36: Source de données | C36: Date à laquelle l’autre fichier a été rendu public | E36: 2025
B37: Source de données | C37: URL | E37: https://datawarehouse.ctcpm.cd/ https://datawarehouse.e-hydro.cd/home
C38: URL
C39: Accessibilités des données et données ouvertes (Exigence 7.2)
C40: Le gouvernement applique-t-il une politique de données ouvertes ? | E40: Oui, divulgation systématique
B41: Couverture/périmètre des données | C41: Portail/fichiers de données ouvertes | E41: https://www.tsl-itierdc.org/donnees-itie/ https://datawarehouse.ctcpm.cd/ https://datawarehouse.e-hydro.cd/home | G41: Les formulaires de déclaration sont collectés à travers le progiciel T/SL
B42: Couverture/périmètre des données | C42: Couverture/périmètre des données
B43: Couverture/périmètre des données | C43: Couverture sectorielle
B44: Couverture/périmètre des données | C44: Pétrole | E44: Oui | G44: Seuls les secteurs pétrolier et minier industriels sont couverts par le présent rapport. Le secteur forestier et l’artisanat minier font l’objet des rapports séparés
B45: Couverture/périmètre des données | C45: Gaz | E45: Oui
B46: Couverture/périmètre des données | C46: Mines (y compris carrières) | E46: Oui
B47: Couverture/périmètre des données | C47: Autres secteurs (autres que les secteur en amont) | E47: Non
...

Sheet Partie 2 - Liste de pointage
H3: Modèle de données résumées
H4: =Introduction!G4 -> 46037
B8: Partie 2 (liste de vérification) Elle couvre l’information contextuelle et financière agrégée prévue par les Exigences ITIE 2,3,4,5 et 6.
B9: Comment remplir cette feuille :
B10: Pour chaque ligne, veuillez procéder comme suit
B11: 1. Commençant par le haut, répondez aux questions de la première colonne (Inclusion). Des indications vous sont données dans les cadres jaunes une fois que la cellule est mise en évidence. Cliquez sur les cellules relatives à chaque Exigence ITIE pour faire apparaître le libellé de la Norme ITIE.
B12: 2. D’autres orientations apparaissent lorsque vous remplissez les cellules. Remplissez-les comme indiqué, complétant chaque colonne de chaque ligne avant de remplir la ligne suivante.
B13: Par exemple, en sélectionnant « Oui, dans le Rapport ITIE », le texte « Veuillez inclure la section du Rapport ITIE » dans la case Source/unités apparaît.
B14: 3. Insérez au besoin toute information supplémentaire ou tout commentaire dans la colonne Commentaires/Notes.
B15: Si vous avez des questions, veuillez contacter data@eiti.org
B17: Les cellules en orange doivent être complétées avant la soumission | D17: Les cellules en bleu pâle ne servent qu’à indiquer les sources et/ou inscrire des commentaires | F17: Ignorez les cellules en blanc, car elles n’exigent aucune action
B19: Partie 2 - Liste de pointage
B20: Veuillez répondre à toutes les questions posées ci-dessous.
B22: Exigence | D22: Inclusion | F22: Source/unités | H22: Commentaires/Notes
B23: Exigence ITIE 2.1 : Cadre légal et régime fiscal
B24: Le gouvernement publie-t-il des informations concernant
B25: Les lois et réglementations ? | D25: Oui, divulgation systématique | F25: https://datawarehouse.ctcpm.cd/emine/cadre/juridique/legislation/Codes%20miniers https://datawarehouse.e-hydro.cd/ehydro/cadre/juridique/arrete
B26: Vue d’ensemble des rôles des agences gouvernementales ? | D26: Oui, à travers le rapportage ITIE | F26: Section 2.1 Cadre juridique et régime fiscal du rapport ITIE
B27: Régime des droits pétroliers et miniers? | D27: Oui, à travers le rapportage ITIE | F27: Section 2.1 Cadre juridique et régime fiscal du rapport ITIE
B28: Régime fiscal ? | D28: Oui, à travers le rapportage ITIE | F28: Section 2.1 Cadre juridique et régime fiscal du rapport ITIE
B30: Exigence ITIE 2.2: Octroi des contrats et licences
B31: Le gouvernement publie-t-il des informations concernant
B32: le processus d’octroi des licences ? | D32: Oui, divulgation systématique | F32: https://cami.cd/procedures/
B33: et les critères techniques et financiers utilisés ? | D33: Oui, à travers le rapportage ITIE | F33: Section 2.2 : Octroi des licences et des contrats
B34: le(s) processus de transfert de licences ? | D34: Oui, à travers le rapportage ITIE | F34: Section 2.2 : Octroi des licences et des contrats
B35: et les critères techniques et financiers utilisés ? | D35: Oui, à travers le rapportage ITIE | F35: Section 2.2 : Octroi des licences et des contrats
B36: processus d’appel d’offres : | D36: Oui, à travers le rapportage ITIE | F36: Section 2.2 : Octroi des licences et des contrats
B37: Nombre d’octrois et de transferts pour l’exercice couvert | D37: Oui, à travers le rapportage ITIE | F37: Section 2.2 : Octroi des licences et des contrats
B39: Exigence ITIE 2.3: Registre des licences
B40: Registres des licences pour le secteur minier | D40: Oui, divulgation systématique | F40: https://cami.cd/wp-content/uploads/2025/10/REGISTRE_DM_DT_30_09_2025.pdf https://datawarehouse.ctcpm.cd/emine/operateur/all
B41: Registre des licences pour le secteur pétrolier | D41: Oui, divulgation systématique | F41: https://www.itierdc.net/carte-de-la-rdc-cliquable/registre-petrolier/ https://datawarehouse.e-hydro.cd/ehydro/operateur/all
B42: Registre des licences pour tout autre secteur - ajouter des lignes au besoin | D42: Sans objet. | F42: Non applicable
B44: Exigence ITIE 2.4: Divulgation des contrats
B45: Politique sur la divulgation des contrats | D45: Oui, divulgation systématique
B46: Les contrats sont-ils divulgués ? | D46: Oui, divulgation systématique
B47: Registre des contrats pour le secteur minier | D47: Oui, divulgation systématique | F47: https://datawarehouse.ctcpm.cd/emine/cadre/juridique/contrat/principaltous/contrant/tc
B48: Registre des contrats pour le secteur pétrolier | D48: Oui, divulgation systématique | F48: https://datawarehouse.e-hydro.cd/ehydro/cadre/juridique/contrat/principal/tous/contrant/tc
B49: Registre des contrats pour tout autre secteur - ajouter des ligne s’il y en a plusieurs | D49: Oui, divulgation systématique | F49: https://www.itierdc.net/contrats-forestiers/ | H49: Secteur Forestier
B51: Exigence ITIE 2.5: Propriété réelle
B52: Politique du gouvernement concernant la propriété réelle | D52: Oui, à travers le rapportage ITIE | F52: Section 2.5 du rapport ITIE
...

Sheet Partie 3 - Entités déclarantes
E3: Modèle de données résumées
E4: =Introduction!G4 -> 46037
B8: Partie 3 (Entités déclarantes) Elle énumère les entités déclarantes (entités de l’État, entreprises et projets) et fournit des informations y afférentes.
B9: Comment remplir cette feuille :
B10: 1. Veuillez commencer par la première case (liste des entités déclarantes de l’État), en indiquant le nom de chacune d’elles
B11: 2. Remplissez la ligne des identifiants d’entreprise Des orientations vous seront données dans les cases jaunes lorsque la cellule est mise en évidence
B12: 3. Remplissez la liste des entreprises déclarantes, commençant par la première colonne, « Nom complet de l’entreprise » Remplissez en suivant les instructions, complétant chaque colonne sur chaque ligne avant de commencer la ligne suivante.
B13: 4. Remplissez la liste des Projets à déclarer, commençant par la première colonne, « Nom complet du projet »
B14: Si vous avez des questions, veuillez contacter data@eiti.org
B16: Partie 3 - Entités déclarantes
B17: Veuillez fournir une liste de toutes les entités déclarantes, accompagnée de l’information y afférente
B19: Liste des entités de l’État déclarantes
B20: Nom complet de l’entité | C20: Type d'Agence | D20: N° d’identifiant (le cas échéant) | E20: Total déclaré
B21: DGI | C21: Administration centrale | D21: Non applicable | E21: 2275928052
B22: DGDA | C22: Administration centrale | D22: Non applicable | E22: 1189785076
B23: DGRAD | C23: Administration centrale | D23: Non applicable | E23: 809829313
B24: GECAMINES | C24: Société publique financière et Entreprise d'Etat | D24: A0701147F | E24: 463777259
B25: DRLU | C25: Administration locale | D25: Non applicable | E25: 365494410
B26: FOMIN | C26: Administration centrale | D26: Non applicable | E26: 146979646
B27: DRHKAT | C27: Administration locale | D27: Non applicable | E27: 119997977
B28: Autres bénéficiaires | C28: Autre | D28: Non applicable | E28: 60229479
B29: CEEC | C29: Administration centrale | D29: Non applicable | E29: 46347708
B30: CHEFFERIE DE BAYEKE | C30: Administration locale | D30: Non applicable | E30: 45403855
B31: SECTEUR DE LUILU | C31: Administration locale | D31: Non applicable | E31: 39038111
B32: BCC | C32: Administration centrale | D32: Non applicable | E32: 27429141
... B110: SECTEUR DE BITULE | C110: Administration locale | D110: Non applicable | E110: 7925
E112: =SUBTOTAL(109,Government_agencies[Total déclaré]) -> 5846198315
B115: Liste des entreprises déclarantes
B116: Identifiants d’entreprise
B117: Exemple : N° identification de contribuable | C117: The Brønnøysund Register Centre | D117: Si possible, indiquer le lien vers le registre ou l’entité
B119: Nom complet de l’entreprise | C119: Type d'entreprise | D119: Identifiant de l’entreprise | E119: Secteur | F119: Matières premières (séparation par virgule) | G119: Cotation boursière ou site Internet d’entreprise | H119: Rapport financier audité (si indisponible, bilan comptable ou flux de trésorerie…) | I119: Rapport de paiements à l’État
B120: TENKE FUNGURUME MINING (TFM) | C120: Privée | D120: A0810758D | E120: Minier | F120: Cobalt, cuivre | G120: CMOC Ltd est cotée à la Bourse de Hong Kong (HK3993) et à la Bourse de Shanghai (SH603993). | I120: 1148645655
B121: KAMOTO COPPER COMPANY SA | C121: Privée | D121: A0701041Q | E121: Minier | F121: Cobalt, cuivre | G121: La société Katanga Mining Finance Ltd, qui détient 75 % du capital de KCC, appartient au groupe Glencore International AG, une société cotée en bourse. | I121: 655807389
B122: KAMOA COPPER SA (ex. BARBADOS) | C122: Privée | D122: A0901048A | E122: Minier | F122: Cobalt, cuivre | I122: 512057520
B123: LA COMPAGNIE MINIERE DE MUSONOIE GLOBAL | C123: Privée | D123: A0815341K | E123: Minier | F123: Cobalt, cuivre | I123: 288553303
B124: COMPAGNIE D'EXPLOITATION DES REJETS DE KINGAMYAMBO SARL | C124: Privée | D124: A1007580B | E124: Minier | F124: Cobalt, cuivre | I124: 242165676
B125: SOCIETE MINIERE DE DEZIWA SAS | C125: Privée | D125: A1712131F | E125: Minier | F125: Cobalt, cuivre | I125: 233003853
B126: MUTANDA MINING (MUMI) | C126: Privée | D126: A0704867Z | E126: Minier | F126: Cobalt, cuivre | G126: Groupe Glencore | I126: 231116296
B127: KIBALI GOLD MINES | C127: Privée | D127: A0702063B | E127: Minier | F127: Or | G127: Barrick Gold et ANGLO GOLD | I127: 194954327
B128: COMPAGNIE MINIERE DE KAMBOVE | C128: Privée | D128: A1100211S | E128: Minier | F128: Cobalt, cuivre | I128: 182328449
...

Sheet Partie 4 - Recettes de l’État
N3: Modèle de données résumées
N4: =Introduction!G4 -> 46037
F8: Partie 4 (Recettes de l’État) Elle contient des données exhaustives sur les revenus de l’État par flux de revenu, en utilisant la classification SFP.
F9: Comment remplir cette feuille :
F10: 1. Inscrivez le nom de tous les flux de revenus de l’État pour le secteur extractif, y compris les flux inférieurs aux seuils de matérialité convenus (utiliser une ligne pour chaque flux de revenus et pour chaque entité de l’État)
F11: 2. Inscrivez le nom de l’entité de l’État percevant les revenus (sélectionnez celle-ci sur la liste déroulante) Elle y figurera parce que vous aurez déjà inscrit l’entité de l’État à la Partie 3).
F12: 3. Choisissez le Secteur et la Classification SFP auxquels ce flux de revenus s’applique. Consultez les orientations fournies dans le Cadre SFP pour le rapportage ITIE. Si un flux de revenus ne peut être désagrégé par secteur, sélectionnez « Autre ».
F13: 4. Dans la colonne Valeur des revenus inscrivez le chiffre total de chaque flux de revenus tel que divulgué par le gouvernement, qui inclut également les revenus qui n’ont pas été rapprochés.
F14: Nota : Les paiements versés par les entreprises aux gouvernements au nom de leurs employés doivent être exclus (par exemple, l’impôt sur le revenu des particuliers / impôts retenus à la source, cotisations des employés pour la sécurité sociale) car ils ne sont pas considérés comme étant des paiements par des entreprises au gouvernement.
F15: 5. Si des paiements sont recensés dans le Rapport ITIE mais ne correspondent pas aux catégories SFP, veuillez les lister dans la case ci-dessous dénommée « Informations supplémentaires ».
F16: Si vous avez des questions, veuillez contacter data@eiti.org
F18: Total des recettes de l’État provenant du secteur extractif (utilisant la classification SFP) | M18: Cadre SFP pour le rapportage ITIE
M19: Exigence ITIE 5.1.b: Classification des revenus
F20: Exigence ITIE 4.1.d: Divulgation exhaustive de la part du gouvernement
B21: GFS Niveau 1 | C21: GFS Niveau 2 | D21: GFS Niveau 3 | E21: GFS Niveau 4 | F21: Classification SFP | G21: Secteur | H21: Nom du flux de revenus | I21: Entité de l’État | J21: Valeur des revenus | K21: Devise | M21: En quoi consiste le SFP ?
F22: Impôts ordinaires sur le revenu, le bénéfice et les plus-values (1112E1) | G22: Minier | H22: Impôt sur les bénéfices et Profits(ou Impôt Spécial Forfetaire) | I22: DGI | J22: 1096711743 | K22: USD | M22: SFP, sigle pour «Statistiques de Finances Publiques », est un cadre international pour la classification des flux de revenus afin de les rendre comparables d’un pays et d’une période à l’autre. Voir l’exemple de cadre complet ci-dessous. Le cadre utilisé ci-dessous a été élaboré par le FMI et le Secrétariat international de l’ITIE. Les chiffres à droite ont été spécifiquement conçus pour les entreprises du secteur extractif La lettre E dans la colonne des codes SFP signifie que ce sont les codes utilisés pour les revenus issus des entreprises extractives. Les chiffres situés à gauche de la lettre E sont les codes SFP réguliers.
F23: Droits de douane et autres droits d’importation (1151E) | G23: Minier | H23: Droits et taxes à l'importation (Totale Quittance) | I23: DGDA | J23: 813975208 | K23: USD
F24: Redevances (1415E1) | G24: Minier | H24: Redevance Minière: Quote-part Trésor (50%) | I24: DGRAD | J24: 512316454 | K24: USD
F25: Amendes, peines et dédits (143E) | G25: Minier | H25: Avis de Mise en Recouvrement A | I25: DGI | J25: 480163998 | K25: USD
F26: Taxes sur les exportations (1152E) | G26: Minier | H26: Droits et Taxes A L'Exportation (Totale Quittance) | I26: DGDA | J26: 342909324 | K26: USD
F27: Impôts ordinaires sur le revenu, le bénéfice et les plus-values (1112E1) | G27: Minier | H27: Impôts Professionnel sur les Rémunérations et Exceptionnel sur la Rémunération des Expatriés | I27: DGI | J27: 242660898 | K27: USD | M27: Pour plus d’orientations, visitez la page https://eiti.org/fr/document/modele-donnees-resumees-itie
F28: Livré/payé à une/des entreprise(s) d’État (1415E32) | G28: Minier | H28: Accords transactionnels | I28: GECAMINES | J28: 200000000 | K28: USD | M28: ou https://www.imf.org/external/pubs/ft/gfs/manual/pdf/2014companion/FrenchGFSM.pdf
F29: Redevances (1415E1) | G29: Minier | H29: Redevance Minière: Quote-part Province (25%) | I29: DRLU | J29: 188994952 | K29: USD
F30: Livré/payé à une/des entreprise(s) d’État (1415E32) | G30: Minier | H30: Dividendes des Entreprises publiques | I30: GECAMINES | J30: 178485778 | K30: USD
F31: Amendes, peines et dédits (143E) | G31: Minier | H31: Avis de Mise en Recouvrement B | I31: DGI | J31: 139222725 | K31: USD
F32: Redevances (1415E1) | G32: Minier | H32: Redevances minières: FOMIN (10%) | I32: FOMIN | J32: 119997977 | K32: USD
F33: Impôts sur la propriété (113E) | G33: Minier | H33: Impôt mobilier | I33: DGI | J33: 113743366 | K33: USD
F34: Autres impôts payés par les entreprises exploitant des ressources naturelles (116E) | G34: Minier | H34: Taxe Concentrés | I34: DRLU | J34: 93091316 | K34: USD
B35: =IFERROR(VLOOKUP(Government_revenues_table[[#This Row],[Classification SFP]],Table6_GFS_codes_classification[],COLUMNS($F:F)+3,FALSE),"Do not enter data") -> Impôts (11E) | C35: =IFERROR(VLOOKUP(Government_revenues_table[[#This Row],[Classification SFP]],Table6_GFS_codes_classification[],COLUMNS($F:G)+3,FALSE),"Do not enter data") -> Impôts sur le revenu, le bénéfice et les plus-values (111E) | D35: =IFERROR(VLOOKUP(Government_revenues_table[[#This Row],[Classification SFP]],Table6_GFS_codes_classification[],COLUMNS($F:H)+3,FALSE),"Do not enter data") -> Impôts extraordinaires sur le revenu, le bénéfice et les plus-values (1112E2) | E35: =IFERROR(VLOOKUP(Government_revenues_table[[#This Row],[Classification SFP]],Table6_GFS_codes_classification[],COLUMNS($F:I)+3,FALSE),"Do not enter data") -> Impôts extraordinaires sur le revenu, le bénéfice et les plus-values (1112E2) | F35: Impôts extraordinaires sur le revenu, le bénéfice et les plus-values (1112E2) | G35: Minier | H35: Impôt Spécial sur le profit Excédentaire | I35: DGI | J35: 90643335 | K35: USD
F36: Autres impôts payés par les entreprises exploitant des ressources naturelles (116E) | G36: Minier | H36: Taxe Voirie et Drainage | I36: DRLU | J36: 82584274 | K36: USD
F37: Impôts ordinaires sur le revenu, le bénéfice et les plus-values (1112E1) | G37: Pétrolier | H37: Impôt sur les bénéfices et Profits(ou Impôt Spécial Forfetaire) | I37: DGI | J37: 78725078 | K37: USD
F38: Autres impôts payés par les entreprises exploitant des ressources naturelles (116E) | G38: Minier | H38: Taxe Voirie et Drainage | I38: DRHKAT | J38: 78024040 | K38: USD
F39: Redevances (1415E1) | G39: Pétrolier | H39: Marge distribuable(Profit-Oil Etat Puissance Publique) | I39: DGRAD | J39: 70387214 | K39: USD
F40: Redevances (1415E1) | G40: Minier | H40: Redevance Minière: Quote-part Province (25%) | I40: DRHKAT | J40: 53478326 | K40: USD
F41: Redevances (1415E1) | G41: Minier | H41: Redevance minière : quote-part ETD (15%) | I41: CHEFFERIE DE BAYEKE | J41: 45403855 | K41: USD
F42: Redevances (1415E1) | G42: Minier | H42: Royalties : Quote-part Trésor (50%) | I42: DGRAD | J42: 40487902 | K42: USD
F43: Redevances (1415E1) | G43: Minier | H43: Redevance minière : quote-part ETD (15%) | I43: SECTEUR DE LUILU | J43: 39038111 | K43: USD
F44: Amendes, peines et dédits (143E) | G44: Minier | H44: Pénalités et Amendes Transactionnelles pour la DGDA | I44: DGDA | J44: 32900544 | K44: USD
F45: Autres impôts payés par les entreprises exploitant des ressources naturelles (116E) | G45: Minier | H45: Taxe rémunératoire annuelle | I45: DGRAD | J45: 32802733 | K45: USD
F46: Impôts généraux sur les biens et services (TVA, taxes sur les ventes, taxes sur le chiffre d’affaires)(1141E) | G46: Minier | H46: IBP sur Prestations des personnes non résidentes en RDC | I46: DGI | J46: 31745880 | K46: USD
...

Sheet Partie 5 - Données d’entreprise
C2: Partie 5 (Données d’entreprise) Elle contient des données venant des entreprises - et du niveau projet - par flux de revenus. Les entreprises et projets sont indiqués sur le menu déroulant car ils ont été saisis sur la feuille 3.
C3: Comment remplir cette feuille :
C4: 1. Sélectionnez le nom de l’entreprise sur le menu déroulant
C5: 2. Sélectionnez l’entité collectrice de l’État et le nom du paiement sur le menu déroulant
C6: 3. Indiquez si le flux de paiements est (i) perçu par projet et (ii) déclaré par projet
C7: 4. Inscrivez l’information de projet : nom du projet et devise de déclaration
C8: 5. Inscrivez la valeur des revenus telle que divulguée par le gouvernement et ajoutez tout commentaire pertinent.
C9: Si vous avez des questions, veuillez contacter data@eiti.org
C11: Recettes de l’État par entreprise et projet
C13: Exigence ITIE 4.1.c: Paiements des entreprises ; Exigence ITIE 4.7: Déclaration par projet
B14: Secteur | C14: Entreprise | D14: Entité de l’État | E14: Nom du paiement | F14: Perçu par projet (O/N) | G14: Déclaré par projet (O/N) | H14: Nom du projet | I14: Devise de déclaration | J14: Valeur de revenus | K14: Paiement effectué en nature? | L14: Volume en nature (si applicable) | M14: Unité (si applicable) | N14: Commentaires
C15: TENKE FUNGURUME MINING | D15: DGI | E15: Impôt sur les bénéfices et Profits(ou Impôt Spécial Forfetaire) | F15: Oui | G15: Oui | H15: Convention d’actionnaires du 28 sept2005 -Convention minière du 28 sept 2005-PE123-PE159-PE4728-PE4729-PE9707-PE9708 | I15: USD | J15: 259955845 | K15: Non | L15: N/a | M15: N/a
C16: TENKE FUNGURUME MINING | D16: GECAMINES | E16: Accords transactionnels | F16: Oui | G16: Oui | H16: Convention d’actionnaires du 28 sept2005 -Convention minière du 28 sept 2005-PE123-PE159-PE4728-PE4729-PE9707-PE9708 | I16: USD | J16: 200000000 | K16: Non | L16: N/a | M16: N/a
C17: KAMOTO COPPER COMPANY SA | D17: DGI | E17: Avis de Mise en Recouvrement A | F17: Non | G17: Non | H17: Convention de JV N° 656/6755/SG/GC/2004 du 09 septembre 2004, Convention JVACR n° 1014/19238/SG/GC/2009 du 25 juillet 2009 et avenant n°3 à JVACR du 12 juin 2018-PE525-PE4961-PE11602--- | I17: USD | J17: 196345866 | K17: Non | L17: N/a | M17: N/a
C18: TENKE FUNGURUME MINING | D18: DGDA | E18: Droits et taxes à l'importation (Totale Quittance) | F18: Oui | G18: Oui | H18: Convention d’actionnaires du 28 sept2005 -Convention minière du 28 sept 2005-PE123-PE159-PE4728-PE4729-PE9707-PE9708 | I18: USD | J18: 155252582 | K18: Non | L18: N/a | M18: N/a
C19: ALPHAMINBISIE MINING SA | D19: DGI | E19: Impôt sur les bénéfices et Profits(ou Impôt Spécial Forfetaire) | F19: Non | G19: Non | H19: PE 4246-5266-5267-5270-10346-PE 13155-15865-15866-15886 | I19: USD | J19: 99646657 | K19: Non | L19: N/a | M19: N/a
C20: KAMOA COPPER SA (ex. BARBADOS) | D20: DGDA | E20: Droits et taxes à l'importation (Totale Quittance) | F20: Non | G20: Non | H20: N/a | I20: USD | J20: 98818412 | K20: Non | L20: N/a | M20: N/a
C21: SOCIETE MINIERE DE DEZIWA SAS | D21: DGI | E21: Impôt Spécial sur le profit Excédentaire | F21: Non | G21: Non | H21: Convention de JV N° 1612/12033/SG/GC/2016 du 13 juin 2016-PE660-PE8841---- | I21: USD | J21: 84106590 | K21: Non | L21: N/a | M21: N/a
C22: MUTANDA MINING (MUMI) | D22: DGI | E22: Impôt sur les bénéfices et Profits(ou Impôt Spécial Forfetaire) | F22: Non | G22: Non | H22: N/a | I22: USD | J22: 83028303 | K22: Non | L22: N/a | M22: N/a
C23: TENKE FUNGURUME MINING | D23: DGRAD | E23: Redevance Minière: Quote-part Trésor (50%) | F23: Oui | G23: Oui | H23: Convention d’actionnaires du 28 sept2005 -Convention minière du 28 sept 2005-PE123-PE159-PE4728-PE4729-PE9707-PE9708 | I23: USD | J23: 80850784 | K23: Non | L23: N/a | M23: N/a
C24: KAMOA COPPER SA (ex. BARBADOS) | D24: DGI | E24: Impôt sur les bénéfices et Profits(ou Impôt Spécial Forfetaire) | F24: Non | G24: Non | H24: N/a | I24: USD | J24: 80334078 | K24: Non | L24: N/a | M24: N/a
C25: LA COMPAGNIE MINIERE DE MUSONOIE GLOBAL | D25: DGI | E25: Impôt sur les bénéfices et Profits(ou Impôt Spécial Forfetaire) | F25: Non | G25: Non | H25: Contrat de création N°1230/19230/SG/GC/2011 du 15 avril 2011-PE12092-PE12093---- | I25: USD | J25: 68132915 | K25: Non | L25: N/a | M25: N/a
C26: KAMOTO COPPER COMPANY SA | D26: DGI | E26: Impôt sur les bénéfices et Profits(ou Impôt Spécial Forfetaire) | F26: Non | G26: Non | H26: Convention de JV N° 656/6755/SG/GC/2004 du 09 septembre 2004, Convention JVACR n° 1014/19238/SG/GC/2009 du 25 juillet 2009 et avenant n°3 à JVACR du 12 juin 2018-PE525-PE4961-PE11602--- | I26: USD | J26: 65723185 | K26: Non | L26: N/a | M26: N/a
... C243: ZHAN FEI MINING SARL | D243: DGDA | E243: Droits et taxes à l'importation (Totale Quittance) | F243: Non | G243: Non | H243: N/a | I243: USD | J243: 4542456 | K243: Non | L243: N/a | M243: N/a
C244: LA MINIERE DE KASOMBO | D244: DGRAD | E244: Redevance Minière: Quote-part Trésor (50%) | F244: Non | G244: Non | H244: N/a | I244: USD | J244: 4503932 | K244: Non | L244: N/a | M244: N/a | N244: Dans le contexte de la RDC, la notion de projet n’a pas été clairement définie (voir sections 4.7 et 4.2 du rapport ITIE 2023). De ce fait, aucune déclaration n’a été ventilée par projet.
C245: KAMOTO COPPER COMPANY SA | D245: DGRAD | E245: Pénalités versées à la DGRAD | F245: Non | G245: Non | H245: Convention de JV N° 656/6755/SG/GC/2004 du 09 septembre 2004, Convention JVACR n° 1014/19238/SG/GC/2009 du 25 juillet 2009 et avenant n°3 à JVACR du 12 juin 2018-PE525-PE4961-PE11602--- | I245: USD | J245: 4493251 | K245: Non | L245: N/a | M245: N/a | N245: Dans le contexte de la RDC, la notion de projet n’a pas été clairement définie (voir sections 4.7 et 4.2 du rapport ITIE 2023). De ce fait, aucune déclaration n’a été ventilée par projet.
C246: LA MINIERE DE KALUKUNDI SPRL (LAMIKAL) | D246: CHEFFERIE DE BAYEKE | E246: Redevance minière : quote-part ETD (15%) | F246: Non | G246: Non | H246: PE-1447 | I246: USD | J246: 4459414 | K246: Non | L246: N/a | M246: N/a | N246: Dans le contexte de la RDC, la notion de projet n’a pas été clairement définie (voir sections 4.7 et 4.2 du rapport ITIE 2023). De ce fait, aucune déclaration n’a été ventilée par projet.
C247: SOCIETE CNMC CONGO COMPAGNIE MINIERE SARL | D247: DGDA | E247: Droits et taxes à l'importation (Totale Quittance) | F247: Non | G247: Non | H247: N/a | I247: USD | J247: 4454265 | K247: Non | L247: N/a | M247: N/a | N247: Dans le contexte de la RDC, la notion de projet n’a pas été clairement définie (voir sections 4.7 et 4.2 du rapport ITIE 2023). De ce fait, aucune déclaration n’a été ventilée par projet.
C248: SOCIETE MINIERE DE DEZIWA SAS | D248: GECAMINES | E248: Royalties versées aux Entreprises Publiques | F248: Non | G248: Non | H248: Convention de JV N° 1612/12033/SG/GC/2016 du 13 juin 2016-PE660-PE8841---- | I248: USD | J248: 4432923 | K248: Non | L248: N/a | M248: N/a | N248: Dans le contexte de la RDC, la notion de projet n’a pas été clairement définie (voir sections 4.7 et 4.2 du rapport ITIE 2023). De ce fait, aucune déclaration n’a été ventilée par projet.
C249: THOMAS MINING SARL | D249: DRLU | E249: Redevance Minière: Quote-part Province (25%) | F249: Non | G249: Non | H249: PEPM 13813-PE 15596-PE 15597 | I249: USD | J249: 4386504 | K249: Non | L249: N/a | M249: N/a | N249: Dans le contexte de la RDC, la notion de projet n’a pas été clairement définie (voir sections 4.7 et 4.2 du rapport ITIE 2023). De ce fait, aucune déclaration n’a été ventilée par projet.
C250: SOCIETE D'EXPLOITATION KIPOI | D250: DGRAD | E250: Redevance Minière: Quote-part Trésor (50%) | F250: Non | G250: Non | H250: N/a | I250: USD | J250: 4365073 | K250: Non | L250: N/a | M250: N/a | N250: Dans le contexte de la RDC, la notion de projet n’a pas été clairement définie (voir sections 4.7 et 4.2 du rapport ITIE 2023). De ce fait, aucune déclaration n’a été ventilée par projet.
C251: SHITURU MINING CORPORATION | D251: DGRAD | E251: Redevance Minière: Quote-part Trésor (50%) | F251: Non | G251: Non | H251: PE-4725 | I251: USD | J251: 4359339 | K251: Non | L251: N/a | M251: N/a | N251: Dans le contexte de la RDC, la notion de projet n’a pas été clairement définie (voir sections 4.7 et 4.2 du rapport ITIE 2023). De ce fait, aucune déclaration n’a été ventilée par projet.
C252: EXCELLENT MINERALS | D252: DGI | E252: Impôt sur les bénéfices et Profits(ou Impôt Spécial Forfetaire) | F252: Non | G252: Non | H252: PE-4881 | I252: USD | J252: 4354001 | K252: Non | L252: N/a | M252: N/a | N252: Dans le contexte de la RDC, la notion de projet n’a pas été clairement définie (voir sections 4.7 et 4.2 du rapport ITIE 2023). De ce fait, aucune déclaration n’a été ventilée par projet.
C253: SINO CONGOLAISE DES MINES | D253: DGI | E253: Avis de Mise en Recouvrement A | F253: Non | G253: Non | H253: Convention de JV N° 814/11199/SG/GC/2008 du 22 avril 2008-9681-9682---- | I253: USD | J253: 4350110 | K253: Non | L253: N/a | M253: N/a | N253: Dans le contexte de la RDC, la notion de projet n’a pas été clairement définie (voir sections 4.7 et 4.2 du rapport ITIE 2023). De ce fait, aucune déclaration n’a été ventilée par projet.
C254: CHENGTUN CONGO RESSOURCES SARL | D254: SECTEUR DE LUILU | E254: Redevance minière : quote-part ETD (15%) | F254: Non | G254: Non | H254: PE-14050 | I254: USD | J254: 4342279 | K254: Non | L254: N/a | M254: N/a | N254: Dans le contexte de la RDC, la notion de projet n’a pas été clairement définie (voir sections 4.7 et 4.2 du rapport ITIE 2023). De ce fait, aucune déclaration n’a été ventilée par projet.
C255: SOCIETE DE TRAITEMENT DU TERRIL DE LUBUMBASHI (STL) | D255: DGDA | E255: Droits et taxes à l'importation (Totale Quittance) | F255: Non | G255: Non | H255: N/a | I255: USD | J255: 4339378 | K255: Non | L255: N/a | M255: N/a | N255: Dans le contexte de la RDC, la notion de projet n’a pas été clairement définie (voir sections 4.7 et 4.2 du rapport ITIE 2023). De ce fait, aucune déclaration n’a été ventilée par projet.
... C729: MMG KINSEVERE SARL (MMG) | D729: BCC | E729: Redevance Suivi de change | F729: Non | G729: Non | H729: Contrat d’amodiation avec MMG N° 722/10525/SG/GC/2005 du 08 décembre 2005-PE539-12688-12689-13521-13529- | I729: USD | J729: 581446 | K729: Non | L729: N/a | M729: N/a | N729: Dans le contexte de la RDC, la notion de projet n’a pas été clairement définie (voir sections 4.7 et 4.2 du rapport ITIE 2023). De ce fait, aucune déclaration n’a été ventilée par projet.
C730: WORLD MINERAL RESOURCES SARL | D730: DGDA | E730: Droits et taxes à l'importation (Totale Quittance) | F730: Non | G730: Non | H730: N/a | I730: USD | J730: 579423 | K730: Non | L730: N/a | M730: N/a
C731: LUILU RESSOURCES SAS | D731: DGI | E731: Impôts Professionnel sur les Rémunérations et Exceptionnel sur la Rémunération des Expatriés | F731: Non | G731: Non | H731: PE-8841 | I731: USD | J731: 578238 | K731: Non | L731: N/a | M731: N/a | N731: Dans le contexte de la RDC, la notion de projet n’a pas été clairement définie (voir sections 4.7 et 4.2 du rapport ITIE 2023). De ce fait, aucune déclaration n’a été ventilée par projet.
C732: BOSS MINING | D732: DGDA | E732: Droits et taxes à l'importation (Totale Quittance) | F732: Non | G732: Non | H732: N/a | I732: USD | J732: 568064 | K732: Non | L732: N/a | M732: N/a | N732: Dans le contexte de la RDC, la notion de projet n’a pas été clairement définie (voir sections 4.7 et 4.2 du rapport ITIE 2023). De ce fait, aucune déclaration n’a été ventilée par projet.
...

Sheet Listes
A1: Tableau 1 - Codes de pays | I1: Tableau 2 - Options simples | K1: Tableau 3 - Options de déclaration | N1: Tableau 5 - Liste de matières premières | S1: Tableau 6 - Codes/Classification GFS | AA1: Tableau 7 - Secteurs | AC1: Tableau 8 - Phases de projet | AE1: Tableau 9 - Types d'agences gouvernementales
A2: Nom de pays ou région | B2: Code ISO de pays (alpha 2) | C2: Code ISO de devise (alpha 3) | D2: Code numérique ISO (UN M49) | E2: Code de devise (ISO 4217) | F2: Code numérique de devise (ISO 4217) | G2: Devise | I2: Liste | K2: Liste | N2: Code de produit HS | O2: Description de produit HS | P2: Description de produit HS av. volume | S2: Combiné | T2: Codes GFS des flux de revenus issus des entreprises extractives | U2: Code GFS | V2: GFS Niveau 1 | W2: GFS Niveau 2 | X2: GFS Niveau 3 | Y2: GFS Niveau 4 | AA2: Secteur (s) | AC2: Étapes du projet | AE2: Type d'Agence
A3: Afghanistan | B3: AF | C3: AFG | D3: 4 | E3: AFN | F3: 971 | G3: Afghani afghan | I3: <Sélectionner l’option> | K3: <Rapportage ITIE ou divulgation systématique?> | N3: 2606 | O3: Aluminium (2606) | P3: Aluminium (2606), volume | S3: Impôts ordinaires sur le revenu, le bénéfice et les plus-values (1112E1) | T3: Impôts ordinaires sur le revenu, le bénéfice et les plus-values | U3: 1112E1 | V3: Impôts (11E) | W3: Impôts sur le revenu, le bénéfice et les plus-values | X3: Impôts ordinaires sur le revenu, le bénéfice et les plus-values (1112E1) | Y3: Impôts ordinaires sur le revenu, le bénéfice et les plus-values (1112E1) | AA3: <Sélectionner le secteur> | AC3: <Sélectionner l’étape> | AE3: Administration centrale
A4: Afrique du Sud | B4: ZA | C4: ZAF | D4: 710 | E4: ZAR | F4: 710 | G4: Rand sud-africain | I4: Oui | K4: Oui, divulgation systématique | N4: 2524 | O4: Amiante (2524) | P4: Amiante (2524), volume | S4: Impôts extraordinaires sur le revenu, le bénéfice et les plus-values (1112E2) | T4: Impôts extraordinaires sur le revenu, le bénéfice et les plus-values | U4: 1112E2 | V4: Impôts (11E) | W4: Impôts sur le revenu, le bénéfice et les plus-values (111E) | X4: Impôts extraordinaires sur le revenu, le bénéfice et les plus-values (1112E2) | Y4: Impôts extraordinaires sur le revenu, le bénéfice et les plus-values (1112E2) | AA4: Pétrole | AC4: Prospection | AE4: Administration d'Etat fédéré
A5: Albanie | B5: AL | C5: ALB | D5: 8 | E5: ALL | F5: 8 | G5: Lek albanais | I5: Partiellement | K5: Oui, à travers le rapportage ITIE | N5: 2514 | O5: Ardoise (2514) | P5: Ardoise (2514), volume | S5: Impôts sur la masse salariale et la force de travail (112E) | T5: Impôts sur la masse salariale et la force de travail | U5: 112E | V5: Impôts (11E) | W5: Impôts sur la masse salariale et la force de travail (112E) | X5: Impôts sur la masse salariale et la force de travail (112E) | Y5: Impôts sur la masse salariale et la force de travail (112E) | AA5: Gaz | AC5: Production | AE5: Administration locale
A6: Algérie | B6: DZ | C6: DZA | D6: 12 | E6: DZD | F6: 12 | G6: Dinar algérien | I6: Non | K6: Sans objet. | N6: 7106 | O6: Argent (7106) | P6: Argent (7106), volume | S6: Impôts sur la propriété (113E) | T6: Impôts sur la propriété | U6: 113E | V6: Impôts (11E) | W6: Impôts sur la propriété (113E) | X6: Impôts sur la propriété (113E) | Y6: Impôts sur la propriété (113E) | AA6: Minier | AC6: Développement | AE6: Société publique financière et Entreprise d'Etat
A7: Allemagne | B7: DE | C7: DEU | D7: 276 | E7: EUR | F7: 978 | G7: Euro | I7: Sans objet | K7: Non disponible | N7: 7202 | O7: Ferro-alliages (7202) | P7: Ferro-alliages (7202), volume | S7: Impôts généraux sur les biens et services (TVA, taxes sur les ventes, taxes sur le chiffre d’affaires)(1141E) | T7: Impôts généraux sur les biens et services (TVA, taxes sur les ventes, taxes sur le chiffre d’affaires) | U7: 1141E | V7: Impôts (11E) | W7: Impôts sur les biens et services (114E) | X7: Impôts généraux sur les biens et services (TVA, taxes sur les ventes, taxes sur le chiffre d’affaires (1141E) | Y7: Impôts généraux sur les biens et services (TVA, taxes sur les ventes, taxes sur le chiffre d’affaires (1141E) | AA7: Sans objet | AC7: Autres | AE7: Autre
A8: Andorre | B8: AD | C8: AND | D8: 20 | E8: EUR | F8: 978 | G8: Euro | N8: 2509 | O8: Argile (2509) | P8: Argile (2509), volume | S8: Droits d’accise (1142E) | T8: Droits d’accise | U8: 1142E | V8: Impôts (11E) | W8: Impôts sur les biens et services (114E) | X8: Droits d’accise (1142E) | Y8: Droits d’accise (1142E) | AA8: Pétrole & Gaz | AC8: Sans objet
A9: Angola | B9: AO | C9: AGO | D9: 24 | E9: AOA | F9: 973 | G9: Kwanza angolais | I9: Tableau 4 - Liste des codes de devise | N9: 2617 | O9: Autres (2617) | P9: Autres (2617), volume | S9: Droits de licence (114521E) | T9: Droits de licence | U9: 114521E | V9: Impôts (11E) | W9: Impôts sur les biens et services (114E) | X9: Impôts sur l’usage de biens/permission d’utiliser des biens ou d’exécuter des activités (1145E) | Y9: Droits de licence (114521E) | AA9: Autres
A10: Anguilla | B10: AI | C10: AIA | D10: 660 | E10: XCD | F10: 951 | G10: Dollar des Caraïbes orientales | I10: Code de devise (ISO 4217) | J10: Code numérique de devise (ISO 4217) | K10: Devise | N10: 2508 | O10: Autres argiles (2508) | P10: Autres argiles (2508), volume | S10: Taxes sur les émissions et la pollution (114522E) | T10: Taxes sur les émissions et la pollution | U10: 114522E | V10: Impôts (11E) | W10: Impôts sur les biens et services (114E) | X10: Impôts sur l’usage de biens/permission d’utiliser des biens ou d’exécuter des activités (1145E) | Y10: Taxes sur les émissions et la pollution (114522E)
A11: Antigua et Barbuda | B11: AG | C11: ATG | D11: 28 | E11: XCD | F11: 951 | G11: Dollar des Caraïbes orientales | I11: AED | J11: 784 | K11: Dirham des émirats arabes unis | N11: 2621 | O11: Autres cendres et mâchefer (2621) | P11: Autres cendres et mâchefer (2621), volume | S11: Taxes sur les véhicules à moteur (11451E) | T11: Taxes sur les véhicules à moteur | U11: 11451E | V11: Impôts (11E) | W11: Impôts sur les biens et services (114E) | X11: Impôts sur l’usage de biens/permission d’utiliser des biens ou d’exécuter des activités (1145E) | Y11: Taxes sur les véhicules à moteur (11451E)
A12: Antilles néerlandaises | B12: AN | C12: ANT | D12: 530 | E12: ANG | F12: 532 | G12: Florin des Antilles néerlandaises | I12: AFN | J12: 971 | K12: Afghani afghan | N12: 2714 | O12: Bitume et asphalte (2714) | P12: Bitume et asphalte (2714), volume | S12: Droits de douane et autres droits d’importation (1151E) | T12: Droits de douane et autres droits d’importation | U12: 1151E | V12: Impôts (11E) | W12: Taxes sur le commerce et les transactions au niveau international (115E) | X12: Droits de douane et autres droits d’importation (1151E) | Y12: Droits de douane et autres droits d’importation (1151E)
A13: Arabie saoudite | B13: SA | C13: SAU | D13: 682 | E13: SAR | F13: 682 | G13: Rial saoudite | I13: ALL | J13: 8 | K13: Lek albanais | N13: 2528 | O13: Borates et concentrés naturels (2528) | P13: Borates et concentrés naturels (2528), volume | S13: Taxes sur les exportations (1152E) | T13: Taxes sur les exportations | U13: 1152E | V13: Impôts (11E) | W13: Taxes sur le commerce et les transactions au niveau international (115E) | X13: Taxes sur les exportations (1152E) | Y13: Taxes sur les exportations (1152E)
A14: Argentine | B14: AR | C14: ARG | D14: 32 | E14: ARS | F14: 32 | G14: Peso argentin | I14: AMD | J14: 51 | K14: Dram arménien | N14: 2517 | O14: Cailloux (2517) | P14: Cailloux (2517), volume | S14: Bénéfices des monopoles fiscaux sur les ressources naturelles (1153E1) | T14: Bénéfices des monopoles fiscaux sur les ressources naturelles | U14: 1153E1 | V14: Impôts (11E) | W14: Taxes sur le commerce et les transactions au niveau international (115E) | X14: Bénéfices des monopoles fiscaux sur les ressources naturelles (1153E1) | Y14: Bénéfices des monopoles fiscaux sur les ressources naturelles (1153E1)
A15: Arménie | B15: AM | C15: ARM | D15: 51 | E15: AMD | F15: 51 | G15: Dram arménien | I15: ANG | J15: 532 | K15: Florin des Antilles néerlandaises | N15: 2521 | O15: Calcaire (2521) | P15: Calcaire (2521), volume | S15: Autres impôts payés par les entreprises exploitant des ressources naturelles (116E) | T15: Autres impôts payés par les entreprises exploitant des ressources naturelles | U15: 116E | V15: Impôts (11E) | W15: Autres impôts payés par les entreprises exploitant des ressources naturelles (116E) | X15: Autres impôts payés par les entreprises exploitant des ressources naturelles (116E) | Y15: Autres impôts payés par les entreprises exploitant des ressources naturelles (116E)
A16: Aruba | B16: AW | C16: ABW | D16: 533 | E16: AWG | F16: 533 | G16: Florin d’Aruba | I16: AOA | J16: 973 | K16: Kwanza angolais | N16: 2519 | O16: Carbonate de magnésium naturel (2519) | P16: Carbonate de magnésium naturel (2519), volume | S16: Cotisations patronales à la sécurité sociale (1212E) | T16: Cotisations patronales à la sécurité sociale | U16: 1212E | V16: Cotisations sociales (12E) | W16: Cotisations patronales à la sécurité sociale (1212E) | X16: Cotisations patronales à la sécurité sociale (1212E) | Y16: Cotisations patronales à la sécurité sociale (1212E)
A17: Australie | B17: AU | C17: AUS | D17: 36 | E17: AUD | F17: 36 | G17: Dollar australien | I17: ARS | J17: 32 | K17: Peso argentin | N17: 2620 | O17: Cendres et résidus (2620) | P17: Cendres et résidus (2620), volume | S17: Des entreprises d’État (1412E1) | T17: Des entreprises d’État | U17: 1412E1 | V17: Autre revenu (14E) | W17: Revenu dégagé de la propriété (141E) | X17: Dividendes (1412E) | Y17: Des entreprises d’État (1412E1)
A18: Autriche | B18: AT | C18: AUT | D18: 40 | E18: EUR | F18: 978 | G18: Euro | I18: AUD | J18: 36 | K18: Dollar australien | N18: 2701 | O18: Charbon (2701) | P18: Charbon (2701), volume | S18: Provenant de la participation de l’État (1412E2) | T18: Provenant de la participation de l’État | U18: 1412E2 | V18: Autre revenu (14E) | W18: Revenu dégagé de la propriété (141E) | X18: Dividendes (1412E) | Y18: Provenant de la participation de l’État (1412E2)
A19: Azerbaïdjan | B19: AZ | C19: AZE | D19: 31 | E19: AZN | F19: 944 | G19: Manat azéri | I19: AWG | J19: 533 | K19: Florin d’Aruba | N19: 2522 | O19: Chaux vive (2522) | P19: Chaux vive (2522), volume | S19: Retraits à partir du revenu de quasi-sociétés (1413E) | T19: Retraits à partir du revenu de quasi-sociétés | U19: 1413E | V19: Autre revenu (14E) | W19: Revenu dégagé de la propriété (141E) | X19: Retraits à partir du revenu de quasi-sociétés (1413E) | Y19: Retraits à partir du revenu de quasi-sociétés (1413E)
A20: Bahamas | B20: BS | C20: BHS | D20: 44 | E20: BSD | F20: 44 | G20: Dollar bahamien | I20: AZN | J20: 944 | K20: Manat azéri | N20: 2610 | O20: Chrome (2610) | P20: Chrome (2610), volume | S20: Redevances (1415E1) | T20: Redevances | U20: 1415E1 | V20: Autre revenu (14E) | W20: Revenu dégagé de la propriété (141E) | X20: Loyers (1415E) | Y20: Redevances (1415E1)
A21: Bahreïn | B21: BH | C21: BHR | D21: 48 | E21: BHD | F21: 48 | G21: Dinar de Bahreïn | I21: BAM | J21: 977 | K21: Mark convertible de Bosnie-Herzégovine | N21: 2523 | O21: Ciment Portland (2523) | P21: Ciment Portland (2523), volume | S21: Primes (1415E2) | T21: Primes | U21: 1415E2 | V21: Autre revenu (14E) | W21: Revenu dégagé de la propriété (141E) | X21: Loyers (1415E) | Y21: Primes (1415E2)
A22: Bangladesh | B22: BD | C22: BGD | D22: 50 | E22: BDT | F22: 50 | G22: Taka bangladeshi | I22: BBD | J22: 52 | K22: Dollar de la Barbade | N22: 2605 | O22: Cobalt (2605) | P22: Cobalt (2605), volume | S22: Livré/payé directement à l’État (1415E31) | T22: Livré/payé directement à l’État | U22: 1415E31 | V22: Autre revenu (14E) | W22: Revenu dégagé de la propriété (141E) | X22: Loyers (1415E) | Y22: Droits sur la production (en nature ou en espèces)(1415E3)
... A30: Bolivie | B30: BO | C30: BOL | D30: 68 | E30: BOB | F30: 68 | G30: Boliviano bolivien | I30: BRL | J30: 986 | K30: Réal brésilien | N30: 2609 | O30: Étain (2609) | P30: Étain (2609), volume | S30: <Sélectionner à partir du menu> | T30: <Sélectionner à partir du menu> | U30: <Sélectionner à partir du menu> | V30: <Sélectionner à partir du menu> | W30: <Sélectionner à partir du menu> | X30: <Sélectionner à partir du menu> | Y30: <Sélectionner à partir du menu>
A31: Bosnie-Herzégovine | B31: BA | C31: BIH | D31: 70 | E31: BAM | F31: 977 | G31: Mark convertible de Bosnie-Herzégovine | I31: BSD | J31: 44 | K31: Dollar bahamien | N31: 2512 | O31: Farines siliceuses fossiles (2512) | P31: Farines siliceuses fossiles (2512), volume
A32: Botswana | B32: BW | C32: BWA | D32: 72 | E32: BWP | F32: 72 | G32: Pula du Botswana | I32: BTN | J32: 64 | K32: Nutum du Bhoutan | N32: 2529 | O32: Feldspath (2529) | P32: Feldspath (2529), volume
A33: Brésil | B33: BR | C33: BRA | D33: 76 | E33: BRL | F33: 986 | G33: Réal brésilien | I33: BWP | J33: 72 | K33: Pula du Botswana | N33: 2601 | O33: Fer (2601) | P33: Fer (2601), volume
A34: Bulgarie | B34: BG | C34: BGR | D34: 100 | E34: BGN | F34: 975 | G34: Lev bulgare (ancien) | I34: BYR | J34: 974 | K34: Rouble de Belarus | N34: 2705 | O34: Gaz de charbon (2705) | P34: Gaz de charbon (2705), volume
A35: Burkina Faso | B35: BF | C35: BFA | D35: 854 | E35: XOF | F35: 952 | G35: Franc CFA d’Afrique de l’Ouest | I35: BZD | J35: 84 | K35: Dollar de Belize | N35: 2711 | O35: Gaz naturel (2711) | P35: Gaz naturel (2711), volume
A36: Burundi | B36: BI | C36: BDI | D36: 108 | E36: BIF | F36: 108 | G36: Franc du Burundi | I36: CAD | J36: 124 | K36: Dollar canadien | N36: 2712 | O36: Gelée de pétrole (2712) | P36: Gelée de pétrole (2712), volume
A37: Cambodge | B37: KH | C37: KHM | D37: 116 | E37: KHR | F37: 116 | G37: Riel cambodgien | I37: CDF | J37: 976 | K37: Franc congolais | N37: 2706 | O37: Goudron distillé à partir de charbon (2706) | P37: Goudron distillé à partir de charbon (2706), volume
A38: Cameroun | B38: CM | C38: CMR | D38: 120 | E38: XAF | F38: 950 | G38: Franc CFA d’Afrique centrale | I38: CHF | J38: 756 | K38: Franc suisse | N38: 2516 | O38: Granite (2516) | P38: Granite (2516), volume
A39: Canada | B39: CA | C39: CAN | D39: 124 | E39: CAD | F39: 124 | G39: Dollar canadien | I39: CLF | J39: 990 | K39: Unidad de Fomento chilien | N39: 2504 | O39: Graphite naturel (2504) | P39: Graphite naturel (2504), volume
A40: Cap Vert | B40: CV | C40: CPV | D40: 132 | E40: CVE | F40: 132 | G40: Escudo cap-verdien | I40: CNH | J40: 0 | K40: Yuan renminbi chinois (off-shore) | N40: 2520 | O40: Gypse (2520) | P40: Gypse (2520), volume
A41: Chili | B41: CL | C41: CHL | D41: 152 | E41: CLF | F41: 990 | G41: Unidad de Fomento chilien | I41: COP | J41: 170 | K41: Peso colombien | N41: 2710 | O41: Huiles de pétrole hors pétrole brut (2710) | P41: Huiles de pétrole hors pétrole brut (2710), volume
A42: Chine | B42: CN | C42: CHN | D42: 156 | E42: CNH | F42: 0 | G42: Yuan renminbi chinois (off-shore) | I42: CRC | J42: 188 | K42: Colon costaricain | N42: 2507 | O42: Kaolin (2507) | P42: Kaolin (2507), volume
... A71: Géorgie | B71: GE | C71: GEO | D71: 268 | E71: GEL | F71: 981 | G71: Lari géorgien | I71: ILS | J71: 376 | K71: Nouveau shekel israélien | N71: 2611 | O71: Tungstène (2611) | P71: Tungstène (2611), volume
A72: Géorgie du Sud et les Îles Sandwich du Sud | B72: GS | C72: SGS | D72: 239 | I72: IMP | J72: 0 | K72: Livre de l’Île de Man | N72: 2612 | O72: Uranium ou thorium (2612) | P72: Uranium ou thorium (2612), volume
A73: Ghana | B73: GH | C73: GHA | D73: 288 | E73: GHS | F73: 936 | G73: Cedi ghanéen | I73: INR | J73: 356 | K73: Roupie indienne | N73: 2608 | O73: Zinc (2608) | P73: Zinc (2608), volume
A74: Gibraltar | B74: GI | C74: GIB | D74: 292 | E74: GIP | F74: 292 | G74: Livre de Gibraltar | I74: IQD | J74: 368 | K74: Dinar irakien | N74: 7103 | O74: Pierres gemmes (précieuses ou fines) autres que les diamants (7103) | P74: Pierres gemmes (précieuses ou fines) autres que les diamants (7103), volume
A75: Grèce | B75: GR | C75: GRC | D75: 300 | E75: EUR | F75: 978 | G75: Euro | I75: IRR | J75: 364 | K75: Rial iranien
...
